Workbook
Name 業務種別リスト: テーブル1[業務種別リスト]

Sheet 業務種別（　　　）※前１年決算分
H1: 業 務 経 歴 書 | J1: （前１年決算分）
B2: （業務種別 | H2: ） | J2: 営業年度（ | L2: 年 | N2: 月 | O2: ～ | Q2: 年 | S2: 月）
A3: № | B3: 業務種別 | C3: 公共 民間 | D3: 元請 下請 | E3: 発注者名 | H3: 業務名 | I3: 業務場所の 都道府県名 | J3: 請負代金の額 （千円） | K3: 着工年月 | O3: 完成（予定）年月 | S3: 請負代金 小計(千円)
A4: 1 | B4: =C2 -> 0 | C4: 公共 | D4: 元請 | L4: 年 | N4: 月 | P4: 年 | R4: 月 | S4: ( a )
L5: 年 | N5: 月 | P5: 年 | R5: 月
L6: 年 | N6: 月 | P6: 年 | R6: 月
L7: 年 | N7: 月 | P7: 年 | R7: 月
L8: 年 | N8: 月 | P8: 年 | R8: 月
L9: 年 | N9: 月 | P9: 年 | R9: 月
L10: 年 | N10: 月 | P10: 年 | R10: 月
E11: ほか | G11: 件 | H11: 上記以外の業務の件数(左記)、金額（右記） | S11: =SUM(J4:J11) -> 0
A12: 2 | B12: =C2 -> 0 | C12: 民間 | D12: 元請 | L12: 年 | N12: 月 | P12: 年 | R12: 月 | S12: ( b )
L13: 年 | N13: 月 | P13: 年 | R13: 月
L14: 年 | N14: 月 | P14: 年 | R14: 月
L15: 年 | N15: 月 | P15: 年 | R15: 月
L16: 年 | N16: 月 | P16: 年 | R16: 月
L17: 年 | N17: 月 | P17: 年 | R17: 月
L18: 年 | N18: 月 | P18: 年 | R18: 月
E19: ほか | G19: 件 | H19: 上記以外の業務の件数(左記)、金額（右記） | S19: =SUM(J12:J19) -> 0
A20: 3 | B20: =C2 -> 0 | C20: ー | D20: 下請 | L20: 年 | N20: 月 | P20: 年 | R20: 月 | S20: ( c )
L21: 年 | N21: 月 | P21: 年 | R21: 月
L22: 年 | N22: 月 | P22: 年 | R22: 月
L23: 年 | N23: 月 | P23: 年 | R23: 月
L24: 年 | N24: 月 | P24: 年 | R24: 月
L25: 年 | N25: 月 | P25: 年 | R25: 月
L26: 年 | N26: 月 | P26: 年 | R26: 月
E27: ほか | G27: 件 | H27: 上記以外の業務の件数(左記)、金額（右記） | S27: =SUM(J20:J27) -> 0
B28: ※記載上の注意 | D28: □希望する業務種別ごとに区分し、営業年度ごと別シートで作成（金額は消費税抜き）してください。
D29: □№の区分ごとに代表的な業務を７件まで入力し、それ以外は最終行に、まとめた件数と金額を入力してください。

Sheet 業務種別（　　　）※前２年決算分
H1: 業 務 経 歴 書 | J1: （前２年決算分）
B2: （業務種別 | H2: ） | J2: 営業年度（ | L2: 年 | N2: 月 | O2: ～ | Q2: 年 | S2: 月）
A3: № | B3: 業務種別 | C3: 公共 民間 | D3: 元請 下請 | E3: 発注者名 | H3: 業務名 | I3: 業務場所の 都道府県名 | J3: 請負代金の額 （千円） | K3: 着工年月 | O3: 完成（予定）年月 | S3: 請負代金 小計(千円)
A4: 1 | B4: =C2 -> 0 | C4: 公共 | D4: 元請 | L4: 年 | N4: 月 | P4: 年 | R4: 月 | S4: ( a )
L5: 年 | N5: 月 | P5: 年 | R5: 月
L6: 年 | N6: 月 | P6: 年 | R6: 月
L7: 年 | N7: 月 | P7: 年 | R7: 月
L8: 年 | N8: 月 | P8: 年 | R8: 月
L9: 年 | N9: 月 | P9: 年 | R9: 月
L10: 年 | N10: 月 | P10: 年 | R10: 月
E11: ほか | G11: 件 | H11: 上記以外の業務の件数(左記)、金額（右記） | S11: =SUM(J4:J11) -> 0
A12: 2 | B12: =C2 -> 0 | C12: 民間 | D12: 元請 | L12: 年 | N12: 月 | P12: 年 | R12: 月 | S12: ( b )
L13: 年 | N13: 月 | P13: 年 | R13: 月
L14: 年 | N14: 月 | P14: 年 | R14: 月
L15: 年 | N15: 月 | P15: 年 | R15: 月
L16: 年 | N16: 月 | P16: 年 | R16: 月
L17: 年 | N17: 月 | P17: 年 | R17: 月
L18: 年 | N18: 月 | P18: 年 | R18: 月
E19: ほか | G19: 件 | H19: 上記以外の業務の件数(左記)、金額（右記） | S19: =SUM(J12:J19) -> 0
A20: 3 | B20: =C2 -> 0 | C20: ー | D20: 下請 | L20: 年 | N20: 月 | P20: 年 | R20: 月 | S20: ( c )
L21: 年 | N21: 月 | P21: 年 | R21: 月
L22: 年 | N22: 月 | P22: 年 | R22: 月
L23: 年 | N23: 月 | P23: 年 | R23: 月
L24: 年 | N24: 月 | P24: 年 | R24: 月
L25: 年 | N25: 月 | P25: 年 | R25: 月
L26: 年 | N26: 月 | P26: 年 | R26: 月
E27: ほか | G27: 件 | H27: 上記以外の業務の件数(左記)、金額（右記） | S27: =SUM(J20:J27) -> 0
B28: ※記載上の注意 | D28: □希望する業務種別ごとに区分し、営業年度ごと別シートで作成（金額は消費税抜き）してください。
D29: □№の区分ごとに代表的な業務を７件まで入力し、それ以外は最終行に、まとめた件数と金額を入力してください。

Sheet 業務売上高集計表
A1: 業務売上高集計表
A2: （業務種別 | B2: ='業務種別（ ）※前１年決算分'!C2 -> 0 | C2: ） | E2: 単位：千円
A4: =DBCS("（１）営業年度（ "&'業務種別（ ）※前１年決算分'!K2&"年 "&'業務種別（ ）※前１年決算分'!M2&"月 "&"～ "&'業務種別（ ）※前１年決算分'!P2&"年 "&'業務種別（ ）※前１年決算分'!R2&"月）") -> （１）営業年度（ 年 月 ～ 年 月） | C4: （前１年）
A5: 全体売上高 | B5: 元請 業務売上高 | C5: 公共元請 業務売上高(a) | D5: 民間元請 業務売上高(b) | E5: 下請 業務売上高(c）
A6: =B6+E6 -> 0 | B6: =C6+D6 -> 0 | C6: ='業務種別（ ）※前１年決算分'!S11 -> 0 | D6: ='業務種別（ ）※前１年決算分'!S19 -> 0 | E6: ='業務種別（ ）※前１年決算分'!S27 -> 0
A8: =DBCS("（２）営業年度（ "&'業務種別（ ）※前２年決算分'!K2&"年 "&'業務種別（ ）※前２年決算分'!M2&"月 "&"～ "&'業務種別（ ）※前２年決算分'!P2&"年 "&'業務種別（ ）※前２年決算分'!R2&"月）") -> （２）営業年度（ 年 月 ～ 年 月） | C8: （前２年）
A9: 全体売上高 | B9: 元請 業務売上高 | C9: 公共元請 業務売上高(a) | D9: 民間元請 業務売上高(b) | E9: 下請 業務売上高(c）
A10: =B10+E10 -> 0 | B10: =C10+D10 -> 0 | C10: ='業務種別（ ）※前２年決算分'!S11 -> 0 | D10: ='業務種別（ ）※前２年決算分'!S19 -> 0 | E10: ='業務種別（ ）※前２年決算分'!S27 -> 0
C13: ※千円未満端数切り捨て
A14: 全体売上高 | B14: 元請 業務売上高 | C14: 公共元請 業務売上高(a) | D14: 民間元請 業務売上高(b) | E14: 下請 業務売上高(c）
A15: =ROUNDDOWN((A6+A10)/2,0) -> 0 | B15: =ROUNDDOWN((B6+B10)/2,0) -> 0 | C15: =ROUNDDOWN((C6+C10)/2,0) -> 0 | D15: =ROUNDDOWN((D6+D10)/2,0) -> 0 | E15: =ROUNDDOWN((E6+E10)/2,0) -> 0

Sheet 業務種別リスト
A1: 業務種別リスト
A2: 測量業務
A3: 地質調査
A4: 不動産鑑定・補償コンサルタント業務
A5: 土木設計
A6: 建築設計
A7: 上水道設計業務
A8: 上水道施設維持管理業務
A9: 浄化槽清掃業務
A10: 浄化槽保守業務
A11: 日常清掃業務
A12: 警備業務
... A27: その他(業務名)
